BEGIN:VCALENDAR
VERSION:2.0
PRODID:-//JFT93 - ECPv6.15.18//NONSGML v1.0//EN
CALSCALE:GREGORIAN
METHOD:PUBLISH
X-WR-CALNAME:JFT93
X-ORIGINAL-URL:https://jft93.ch
X-WR-CALDESC:Veranstaltungen im JFT93
REFRESH-INTERVAL;VALUE=DURATION:PT1H
X-Robots-Tag:noindex
X-PUBLISHED-TTL:PT1H
BEGIN:VTIMEZONE
TZID:UTC
BEGIN:STANDARD
TZOFFSETFROM:+0000
TZOFFSETTO:+0000
TZNAME:UTC
DTSTART:20250101T000000
END:STANDARD
END:VTIMEZONE
BEGIN:VEVENT
DTSTART;TZID=UTC:20260606T083000
DTEND;TZID=UTC:20260606T113000
DTSTAMP:20260420T013049
CREATED:20251207T185130Z
LAST-MODIFIED:20251207T185130Z
UID:2216-1780734600-1780745400@jft93.ch
SUMMARY:4. JFT93 Übung 2026
DESCRIPTION:
URL:https://jft93.ch/index.php/event/4-jft93-uebung-2026/
LOCATION:Depot Wittenbach\, Hofenstrasse 5\, Wittenbach\, Schweiz\, 9300\, Switzerland
CATEGORIES:Übungen
END:VEVENT
BEGIN:VEVENT
DTSTART;TZID=UTC:20260815T070000
DTEND;TZID=UTC:20260815T170000
DTSTAMP:20260420T013049
CREATED:20251207T185257Z
LAST-MODIFIED:20251207T185257Z
UID:2218-1786777200-1786813200@jft93.ch
SUMMARY:Kantonaler JFW WBK 2026
DESCRIPTION:Genauere Informationen werden folgen
URL:https://jft93.ch/index.php/event/kantonaler-jfw-wbk-2026/
LOCATION:Depot Wittenbach\, Hofenstrasse 5\, Wittenbach\, Schweiz\, 9300\, Switzerland
CATEGORIES:Übungen
END:VEVENT
BEGIN:VEVENT
DTSTART;TZID=UTC:20260905T083000
DTEND;TZID=UTC:20260905T113000
DTSTAMP:20260420T013049
CREATED:20251207T185337Z
LAST-MODIFIED:20251207T185337Z
UID:2220-1788597000-1788607800@jft93.ch
SUMMARY:6. JFT93 Übung 2026
DESCRIPTION:
URL:https://jft93.ch/index.php/event/6-jft93-uebung-2026/
LOCATION:Depot Häggenschwil\, Alte Konstanzerstrasse 7\, Häggenschwil\, Schweiz\, 9308\, Switzerland
CATEGORIES:Übungen
END:VEVENT
BEGIN:VEVENT
DTSTART;TZID=UTC:20261114T083000
DTEND;TZID=UTC:20261114T113000
DTSTAMP:20260420T013049
CREATED:20251207T185418Z
LAST-MODIFIED:20251207T185418Z
UID:2222-1794645000-1794655800@jft93.ch
SUMMARY:7. JFT93 Übung 2026
DESCRIPTION:
URL:https://jft93.ch/index.php/event/7-jft93-uebung-2026/
LOCATION:Depot Berg\, Dorfstrasse 25\, Berg SG\, Schweiz\, 9305\, Switzerland
CATEGORIES:Übungen
END:VEVENT
BEGIN:VEVENT
DTSTART;TZID=UTC:20261205T083000
DTEND;TZID=UTC:20261205T113000
DTSTAMP:20260420T013049
CREATED:20251207T185451Z
LAST-MODIFIED:20251207T185451Z
UID:2224-1796459400-1796470200@jft93.ch
SUMMARY:8. JFT93 Übung 2026
DESCRIPTION:
URL:https://jft93.ch/index.php/event/8-jft93-uebung-2026/
LOCATION:Depot Wittenbach\, Hofenstrasse 5\, Wittenbach\, Schweiz\, 9300\, Switzerland
CATEGORIES:Übungen
END:VEVENT
END:VCALENDAR